BEGIN:VCALENDAR
VERSION:2.0
PRODID:-//wp-events-plugin.com//6.4.7.3//EN
TZID:Europe/Berlin
X-WR-TIMEZONE:Europe/Berlin
BEGIN:VEVENT
UID:7@3-saeulen.de
DTSTART;TZID=Europe/Berlin:20240703T193000
DTEND;TZID=Europe/Berlin:20240703T210000
DTSTAMP:20240526T075509Z
URL:https://www.3-saeulen.de/events/ta-i-instruktionsloge-3/
SUMMARY:BA I
DESCRIPTION:
LOCATION:Logenhaus\, Ottobrunnerstraße 55\, München\, Bayern\, 81737\, De
 utschland
X-APPLE-STRUCTURED-LOCATION;VALUE=URI;X-ADDRESS=Ottobrunnerstraße 55\, Mü
 nchen\, Bayern\, 81737\, Deutschland;X-APPLE-RADIUS=100;X-TITLE=Logenhaus:
 geo:0,0
END:VEVENT
BEGIN:VTIMEZONE
TZID:Europe/Berlin
X-LIC-LOCATION:Europe/Berlin
BEGIN:DAYLIGHT
DTSTART:20240331T030000
TZOFFSETFROM:+0100
TZOFFSETTO:+0200
TZNAME:CEST
END:DAYLIGHT
END:VTIMEZONE
END:VCALENDAR