BEGIN:VCALENDAR
VERSION:2.0
PRODID:-//wp-events-plugin.com//6.4.7.3//EN
TZID:Europe/Berlin
X-WR-TIMEZONE:Europe/Berlin
BEGIN:VEVENT
UID:41@3-saeulen.de
DTSTART;TZID=Europe/Berlin:20250917T193000
DTEND;TZID=Europe/Berlin:20250917T210000
DTSTAMP:20250907T053018Z
URL:https://www.3-saeulen.de/events/ta-i-instruktionsloge-12/
SUMMARY:TA I: Instruktionsloge ENTFÄLLT aufgrund von Umbauarbeiten
DESCRIPTION:
END:VEVENT
BEGIN:VTIMEZONE
TZID:Europe/Berlin
X-LIC-LOCATION:Europe/Berlin
BEGIN:DAYLIGHT
DTSTART:20250330T030000
TZOFFSETFROM:+0100
TZOFFSETTO:+0200
TZNAME:CEST
END:DAYLIGHT
END:VTIMEZONE
END:VCALENDAR