BEGIN:VCALENDAR
VERSION:2.0
PRODID:-//wp-events-plugin.com//6.4.7.3//EN
TZID:Europe/Berlin
X-WR-TIMEZONE:Europe/Berlin
BEGIN:VEVENT
UID:43@3-saeulen.de
DTSTART;TZID=Europe/Berlin:20251001T190000
DTEND;TZID=Europe/Berlin:20251001T233000
DTSTAMP:20250923T034259Z
URL:https://www.3-saeulen.de/events/ta-i-ggf-mit-aufnahme-und-tl-5/
SUMMARY:TA I: Instruktionsloge
DESCRIPTION:Um 18:00 Uhr findet eine Instruktion statt.
END:VEVENT
BEGIN:VTIMEZONE
TZID:Europe/Berlin
X-LIC-LOCATION:Europe/Berlin
BEGIN:DAYLIGHT
DTSTART:20250330T030000
TZOFFSETFROM:+0100
TZOFFSETTO:+0200
TZNAME:CEST
END:DAYLIGHT
END:VTIMEZONE
END:VCALENDAR