BEGIN:VCALENDAR
VERSION:2.0
PRODID:-//wp-events-plugin.com//6.4.7.3//EN
TZID:Europe/Berlin
X-WR-TIMEZONE:Europe/Berlin
BEGIN:VEVENT
UID:8@3-saeulen.de
DTSTART;TZID=Europe/Berlin:20240911T193000
DTEND;TZID=Europe/Berlin:20240911T210000
DTSTAMP:20240506T035217Z
URL:https://www.3-saeulen.de/events/ta-i-gemeinschaftsarbeit-der-logen-ott
 obrunner-str-55/
SUMMARY:TA I: Gemeinschaftsarbeit der Logen Ottobrunner Str. 55
DESCRIPTION:Im Anschluss an die Arbeit findet ein Brudermahl statt.\n\nFür
  die Brüder Lehrlinge und Gesellen gibt es ab 18:30 Uhr die Möglichkeit 
 beim Aufbau des Tempels mitzuwirken.
LOCATION:Logenhaus\, Ottobrunnerstraße 55\, München\, Bayern\, 81737\, De
 utschland
X-APPLE-STRUCTURED-LOCATION;VALUE=URI;X-ADDRESS=Ottobrunnerstraße 55\, Mü
 nchen\, Bayern\, 81737\, Deutschland;X-APPLE-RADIUS=100;X-TITLE=Logenhaus:
 geo:0,0
END:VEVENT
BEGIN:VTIMEZONE
TZID:Europe/Berlin
X-LIC-LOCATION:Europe/Berlin
BEGIN:DAYLIGHT
DTSTART:20240331T030000
TZOFFSETFROM:+0100
TZOFFSETTO:+0200
TZNAME:CEST
END:DAYLIGHT
END:VTIMEZONE
END:VCALENDAR